BEGIN:VCALENDAR
VERSION:2.0
PRODID:-//Immanuel-Kant-Schule - ECPv5.9.2//NONSGML v1.0//EN
CALSCALE:GREGORIAN
METHOD:PUBLISH
X-WR-CALNAME:Immanuel-Kant-Schule
X-ORIGINAL-URL:https://iks.neumuenster.de
X-WR-CALDESC:Veranstaltungen für Immanuel-Kant-Schule
BEGIN:VTIMEZONE
TZID:Europe/Berlin
BEGIN:DAYLIGHT
TZOFFSETFROM:+0100
TZOFFSETTO:+0200
TZNAME:CEST
DTSTART:20260329T010000
END:DAYLIGHT
BEGIN:STANDARD
TZOFFSETFROM:+0200
TZOFFSETTO:+0100
TZNAME:CET
DTSTART:20261025T010000
END:STANDARD
END:VTIMEZONE
BEGIN:VEVENT
DTSTART;TZID=Europe/Berlin:20260311T080000
DTEND;TZID=Europe/Berlin:20260311T150000
DTSTAMP:20260424T180013
CREATED:20250731T080133Z
LAST-MODIFIED:20250731T080133Z
UID:6303-1773216000-1773241200@iks.neumuenster.de
SUMMARY:CAU - Studieninfotag Q1
DESCRIPTION:
URL:https://iks.neumuenster.de/termin/cau-studieninfotag-q1/
END:VEVENT
END:VCALENDAR