BEGIN:VCALENDAR
VERSION:2.0
PRODID:-//Immanuel-Kant-Schule - ECPv5.9.2//NONSGML v1.0//EN
CALSCALE:GREGORIAN
METHOD:PUBLISH
X-WR-CALNAME:Immanuel-Kant-Schule
X-ORIGINAL-URL:https://iks.neumuenster.de
X-WR-CALDESC:Veranstaltungen für Immanuel-Kant-Schule
BEGIN:VTIMEZONE
TZID:Europe/Berlin
BEGIN:DAYLIGHT
TZOFFSETFROM:+0100
TZOFFSETTO:+0200
TZNAME:CEST
DTSTART:20250330T010000
END:DAYLIGHT
BEGIN:STANDARD
TZOFFSETFROM:+0200
TZOFFSETTO:+0100
TZNAME:CET
DTSTART:20251026T010000
END:STANDARD
END:VTIMEZONE
BEGIN:VEVENT
DTSTART;TZID=Europe/Berlin:20251218T074500
DTEND;TZID=Europe/Berlin:20251218T110500
DTSTAMP:20260423T171028
CREATED:20250731T080048Z
LAST-MODIFIED:20250731T080048Z
UID:6288-1766043900-1766055900@iks.neumuenster.de
SUMMARY:Letzer Schultag vor den Weihnachtsferien - Unterrichtsende 11:05 Uhr
DESCRIPTION:
URL:https://iks.neumuenster.de/termin/letzer-schultag-vor-den-weihnachtsferien-unterrichtsende-1105-uhr/
END:VEVENT
END:VCALENDAR