BEGIN:VCALENDAR
VERSION:2.0
PRODID:-//Immanuel-Kant-Schule - ECPv5.9.2//NONSGML v1.0//EN
CALSCALE:GREGORIAN
METHOD:PUBLISH
X-WR-CALNAME:Immanuel-Kant-Schule
X-ORIGINAL-URL:https://iks.neumuenster.de
X-WR-CALDESC:Veranstaltungen für Immanuel-Kant-Schule
BEGIN:VTIMEZONE
TZID:Europe/Berlin
BEGIN:DAYLIGHT
TZOFFSETFROM:+0100
TZOFFSETTO:+0200
TZNAME:CEST
DTSTART:20260329T010000
END:DAYLIGHT
BEGIN:STANDARD
TZOFFSETFROM:+0200
TZOFFSETTO:+0100
TZNAME:CET
DTSTART:20261025T010000
END:STANDARD
END:VTIMEZONE
BEGIN:VEVENT
DTSTART;TZID=Europe/Berlin:20260130T112500
DTEND;TZID=Europe/Berlin:20260130T120500
DTSTAMP:20260424T044703
CREATED:20250731T080103Z
LAST-MODIFIED:20250731T080103Z
UID:6294-1769772300-1769774700@iks.neumuenster.de
SUMMARY:Zeugnisse 1. Halbjahr - Unterrichtsende 12:10 Uhr
DESCRIPTION:
URL:https://iks.neumuenster.de/termin/zeugnisse-1-halbjahr-unterrichtsende-1210-uhr/
END:VEVENT
END:VCALENDAR